BEGIN:VCALENDAR
VERSION:2.0
PRODID:icalendar-ruby
CALSCALE:GREGORIAN
METHOD:PUBLISH
BEGIN:VEVENT
DTSTAMP:20260424T133901Z
UID:178-593605@myfbc.ca
DTSTART:20261008T213000Z
DTEND:20261008T230000Z
CLASS:PUBLIC
CREATED:20260424T074833
DESCRIPTION:Children from Kindergarten to Grade 6 can enjoy time together i
 n faith-based learning and play.  Led by our Pastor of Children Pam: myfb
 c.children@gmail.com.
LAST-MODIFIED:20260424T074833
LOCATION:FBC Hall
SUMMARY:Overflow Kidz
URL;VALUE=URI:https://myfbc.ca/events/overflow-kidz/2026-10-08
ATTACH;FILENAME="Slides September 14th, 2025 (1).png";FMTTYPE=image/png:htt
 ps://dq5pwpg1q8ru0.cloudfront.net/2025/09/11/15/18/06/02b5e7cb-830a-4999-9
 83e-43e03cccb6e6/Slides%20September%2014th,%202025%20(1).png
END:VEVENT
END:VCALENDAR
